BEGIN:VCALENDAR
PRODID:-//eluceo/ical//2.0/EN
VERSION:2.0
CALSCALE:GREGORIAN
BEGIN:VEVENT
UID:4f722a59c586773ea046f063e7d82db1
DTSTAMP:20260424T025053Z
SUMMARY:Israel: A World Leader
DESCRIPTION:Jewish Federation of New Hampshire\nCommunity Calendar\nhttps:/
 /jewishnh.org/community-calendar/--israel-a-world-leader-1590929288\n\nLin
 da McGrath  talks about how has this tiny country contributed to making th
 is world a better place and how is it possible that it is the number two d
 estination for venture capital in the WORLD after the United States? More 
 than all of Europe combined!\nTime: Jun 4\, 2020\nhttps://zoom.us/j/912831
 24691?pwd=eGdYMndNcmtBNUhoYmxBZkpqZHBEQT09\n\nMeeting ID: 912 8312 4691\nP
 assword: 314290\n\n
DTSTART;TZID=America/New_York:20200604T190000
DTEND;TZID=America/New_York:20200604T203000
END:VEVENT
END:VCALENDAR
