BEGIN:VCALENDAR
PRODID:-//eluceo/ical//2.0/EN
VERSION:2.0
CALSCALE:GREGORIAN
BEGIN:VEVENT
UID:79f6d8b4345781f0ddb170de6ce69f2c
DTSTAMP:20260422T095354Z
SUMMARY:1st Annual TBA Sisterhood Mah Jongg Tournament
DESCRIPTION:Jewish Federation of New Hampshire\nCommunity Calendar\nhttps:/
 /jewishnh.org/community-calendar/1st-annual-tba-sisterhood-mah-jongg-tourn
 ament\n\nThere will be fun\, games\, noshes and prizes! There will also be
  a learn to play area for Mah Jongg newbies. Sisterhood members $10\, non-
 members $18. Funds raised will go towards the purchase of a new oven for t
 he TBA kitchen. More information and to RSVP Robin: 571-1090 or litlrube@g
 mail.com 
DTSTART;TZID=America/New_York:20180408T130000
DTEND;TZID=America/New_York:20180408T170000
END:VEVENT
END:VCALENDAR
