BEGIN:VCALENDAR
PRODID:-//eluceo/ical//2.0/EN
VERSION:2.0
CALSCALE:GREGORIAN
BEGIN:VEVENT
UID:7ca349dd95df97cb8c0fb579a0fb5239
DTSTAMP:20260422T155151Z
SUMMARY:2018 AIPAC New England Leadership Dinner
DESCRIPTION:Jewish Federation of New Hampshire\nCommunity Calendar\nhttps:/
 /jewishnh.org/community-calendar/2018-aipac-new-england-leadership-dinner\
 n\n2018 AIPAC New England Leadership Dinner\n5:30 PM\, Reception 7 PM\, Pr
 ogram\n\nPlease join community leaders\, members of Congress\, state offic
 ials\, and students for AIPAC'S largest gathering of pro-Israel activists 
 in New England! Registration cost: $300 per person. AIPAC Washington Club 
 ($1\,800) and Capitol Club ($3\,600) members receive a discounted price of
  $200. AIPAC Senate Club ($10\,000) members and above receive complimentar
 y seats. Please contact AIPAC at (617) 399-2562 for more informa...
DTSTART;TZID=America/New_York:20180422T173000
DTEND;TZID=America/New_York:20180422T203000
END:VEVENT
END:VCALENDAR
