BEGIN:VCALENDAR
PRODID:-//eluceo/ical//2.0/EN
VERSION:2.0
CALSCALE:GREGORIAN
BEGIN:VEVENT
UID:654e7fb0d449ffe10295e229b127e245
DTSTAMP:20260423T114401Z
SUMMARY:3rd  ANNUAL WALK RUN FOR HEALING  To BENEFIT PANCREATIC CANCER RESE
 ARCH
DESCRIPTION:Jewish Federation of New Hampshire\nCommunity Calendar\nhttps:/
 /jewishnh.org/community-calendar/2019--3rd--annual-walk-run-for-healing--b
 enefits-pancreatic-cancer-research-1556053625\n\nAll are  welcome to join 
 us for  the 3rd Annual Walk Run for Healing to benefit Pancreatic Cancer R
 esearch studies.  It is an ideal event for  families with babies\, childre
 n  and dogs!  \n\nFood- Live Music- Dancing- Raffle Prizes and Celebration
  of Israel at 71.  Event  includes  children's activities.
DTSTART;TZID=America/New_York:20190505T120000
DTEND;TZID=America/New_York:20190505T150000
END:VEVENT
END:VCALENDAR
