BEGIN:VCALENDAR
PRODID:-//eluceo/ical//2.0/EN
VERSION:2.0
CALSCALE:GREGORIAN
BEGIN:VEVENT
UID:8bf40b0ce5a7e657db3a1200103f28aa
DTSTAMP:20260424T055501Z
SUMMARY:JFNH Annual Meeting & Shem Tov Awards
DESCRIPTION:Jewish Federation of New Hampshire\nCommunity Calendar\nhttps:/
 /jewishnh.org/community-calendar/2019-jfnh-annual-meeting-shem-tov-awards\
 n\nJoin us on Sunday\, September 15th at 3pm for our 2019 Annual Meeting &
  Shem Tov Awards taking place at Temple Israel - Manchester\, NH\n\nWith S
 pecial Guests:: \nManchester Mayor Joyce Craig\nRegional Dir. ADL New Engl
 and: Ronbert Trestan\nGovernor Chris Sununu\n\n*Celebrate the Shem Tov Awa
 rd winners\n*Meet our new Shlicha (Avia Sagron)\n*Hear about Federation’
 s recent accomplishments & plans for the year ahead\n*Learn more about the
  state of hate & anti-Semitism in NH with Federation & our...
DTSTART;TZID=America/New_York:20190915T150000
DTEND;TZID=America/New_York:20190915T170000
END:VEVENT
END:VCALENDAR
