BEGIN:VCALENDAR
PRODID:-//eluceo/ical//2.0/EN
VERSION:2.0
CALSCALE:GREGORIAN
BEGIN:VEVENT
UID:c2fbf330c88f0a99b025945befd28f37
DTSTAMP:20260422T091515Z
SUMMARY:2021 New Hampshire Jewish Film Festival
DESCRIPTION:Jewish Federation of New Hampshire\nCommunity Calendar\nhttps:/
 /jewishnh.org/community-calendar/2021-new-hampshire-jewish-film-festival-1
 601499934\n\n
DTSTART;TZID=America/New_York:20210519T190000
DTEND;TZID=America/New_York:20210610T190000
END:VEVENT
END:VCALENDAR
