BEGIN:VCALENDAR
PRODID:-//eluceo/ical//2.0/EN
VERSION:2.0
CALSCALE:GREGORIAN
BEGIN:VEVENT
UID:01d4ba1e0a5a56bea0162b59aa844c5f
DTSTAMP:20260422T225958Z
SUMMARY:2022 Political Breakfast
DESCRIPTION:Jewish Federation of New Hampshire\nCommunity Calendar\nhttps:/
 /jewishnh.org/community-calendar/2022-political-breakfast-1662749033\n\nTh
 e Southern New Hampshire Jewish Men’s Club is proud to sponsor our Bi-An
 nual Political Breakfast which will be open to the public but advance regi
 stration is required. Please register in advance by emailing:  breakfastrs
 vp@snhjmc.org to confirm your registration.
DTSTART;TZID=America/New_York:20221016T093000
DTEND;TZID=America/New_York:20221016T133000
END:VEVENT
END:VCALENDAR
