BEGIN:VCALENDAR
PRODID:-//eluceo/ical//2.0/EN
VERSION:2.0
CALSCALE:GREGORIAN
BEGIN:VEVENT
UID:2565622030fc2326dcb70ad0e5243e7f
DTSTAMP:20260422T162212Z
SUMMARY:2024 Genocide Awareness Lecture featuring Loung Ung
DESCRIPTION:Jewish Federation of New Hampshire\nCommunity Calendar\nhttps:/
 /jewishnh.org/community-calendar/2024-genocide-awareness-lecture-featuring
 -loung-ung-1710512937\n\nOn April 3\, 2024\, the Cohen Center for Holocaus
 t and Genocide Studies at Keene State College will host its annual Genocid
 e Awareness Lecture. This year's talk\, entitled "Ordinary Citizens\, Extr
 aordinary Leaders: Creating Change Through Activism and Volunteerism" will
  feature Loung Ung\, a survivor of the Cambodian genocide and a human righ
 ts activist. Loung is also the author of a best-selling memoir\, First The
 y Killed My Father. This lecture will be delivered both in-person on campu
 s at KSC a...
DTSTART;TZID=America/New_York:20240403T173000
DTEND;TZID=America/New_York:20240403T183000
END:VEVENT
END:VCALENDAR
