BEGIN:VCALENDAR
PRODID:-//eluceo/ical//2.0/EN
VERSION:2.0
CALSCALE:GREGORIAN
BEGIN:VEVENT
UID:b716eea43c07cce3e555964eb8ea4112
DTSTAMP:20260422T070709Z
SUMMARY:21st Annual Jewish Food Festival
DESCRIPTION:Jewish Federation of New Hampshire\nCommunity Calendar\nhttps:/
 /jewishnh.org/community-calendar/21st-annual-jewish-food-festival\n\nThe m
 enu includes traditional Jewish cooking to delicatessen delights to amazin
 g desserts and more!  The Nearly New Boutique and Judaica Shop will be op
 en as well. This event will happen rain or shine. Credit cards are accepte
 d.  More information: www.tbinh.org  or foodfestival@tbinh.org
DTSTART;TZID=America/New_York:20180708T110000
DTEND;TZID=America/New_York:20180708T140000
END:VEVENT
END:VCALENDAR
