BEGIN:VCALENDAR
PRODID:-//eluceo/ical//2.0/EN
VERSION:2.0
CALSCALE:GREGORIAN
BEGIN:VEVENT
UID:aab5680055bcfdf13b446b561356d41f
DTSTAMP:20260423T112900Z
SUMMARY:3 Rabbis Discuss “Reproductive Rights Through a Jewish Lens”
DESCRIPTION:Jewish Federation of New Hampshire\nCommunity Calendar\nhttps:/
 /jewishnh.org/community-calendar/3-rabbis-discuss-reproductive-rights-thro
 ugh-a-jewish-lens-1651781727\n\n3 rabbis discuss “Reproductive Rights th
 rough a Jewish Lens”\nMay 22 - 4:30 pm - Temple Beth Abraham\, 4 Raymond
  Street in Nashua \n\n\nWhen does human life begin? Is there a Jewish angl
 e for this highly-charged debate? \n\nRabbi Leora Kling Perkins wrote in a
  Times of Israel blog from April 2021 that full personhood begins at birth
  rather than at conception. “That is a basic starting point for most con
 versations about reproduction in Judaism\, from the Talmud to the present.
 ..
DTSTART;TZID=America/New_York:20220522T163000
DTEND;TZID=America/New_York:20220522T180000
END:VEVENT
END:VCALENDAR
