BEGIN:VCALENDAR
PRODID:-//eluceo/ical//2.0/EN
VERSION:2.0
CALSCALE:GREGORIAN
BEGIN:VEVENT
UID:84697d6495d248f77d97af81fea7b664
DTSTAMP:20260422T100025Z
SUMMARY:36 = 2 Times Life: Daily Conversation About Teshuvah in Jewish Sour
 ces
DESCRIPTION:Jewish Federation of New Hampshire\nCommunity Calendar\nhttps:/
 /jewishnh.org/community-calendar/36--2-times-life-daily-conversation-about
 -teshuvah-in-jewish-sources-1662561068\n\nTake 24 minutes every weekday fr
 om now through the day after Yom Kippur during lunch hour to focus on a si
 ngle teaching about “return” from Maimonides or modern sources. Listen
  or talk together on Zoom with Rabbi Jon or a guest teacher. 36 is two tim
 es 18\, the number in Hebrew for chai or “life.” These teachings can h
 elp us think about life in the year past and life in the year ahead. (Not 
 meeting during on Rosh Hashanah and Yom Kippur themselves.)
DTSTART;TZID=America/New_York:20220909T120000
DTEND;TZID=America/New_York:20220909T123500
END:VEVENT
END:VCALENDAR
