BEGIN:VCALENDAR
PRODID:-//eluceo/ical//2.0/EN
VERSION:2.0
CALSCALE:GREGORIAN
BEGIN:VEVENT
UID:46c39cb4db30859622c448f792564b5e
DTSTAMP:20260422T172744Z
SUMMARY:37th Annual Gail Singer Memorial Blood Drive
DESCRIPTION:Jewish Federation of New Hampshire\nCommunity Calendar\nhttps:/
 /jewishnh.org/community-calendar/37th-annual-gail-singer\n\n37th Annual Ga
 il Singer Memorial Blood Drive
DTSTART;TZID=America/New_York:20200826T090000
DTEND;TZID=America/New_York:20200826T180000
END:VEVENT
END:VCALENDAR
