BEGIN:VCALENDAR
PRODID:-//eluceo/ical//2.0/EN
VERSION:2.0
CALSCALE:GREGORIAN
BEGIN:VEVENT
UID:4a14b5d6fdd8a5dff4faa05257d9ba80
DTSTAMP:20260422T145201Z
SUMMARY:38th Annual Gail Singer Memorial Blood Drive
DESCRIPTION:Jewish Federation of New Hampshire\nCommunity Calendar\nhttps:/
 /jewishnh.org/community-calendar/38th-annual-gail-singer-memorial-blood-dr
 ive2\n\nMake an appointment http://www.gailsingermemorial.org/
DTSTART;TZID=America/New_York:20210818T090000
DTEND;TZID=America/New_York:20210818T180000
END:VEVENT
END:VCALENDAR
