BEGIN:VCALENDAR
PRODID:-//eluceo/ical//2.0/EN
VERSION:2.0
CALSCALE:GREGORIAN
BEGIN:VEVENT
UID:d005e26a2078620852d6bc9984dd74ec
DTSTAMP:20260423T204901Z
SUMMARY:3rd Annual Run Walk for Healing for Pancreatic Cancer
DESCRIPTION:Jewish Federation of New Hampshire\nCommunity Calendar\nhttps:/
 /jewishnh.org/community-calendar/3rd-annual-run-walk-for-healing-for-pancr
 eatic-cancer-1547237259\n\nNH4Israel’s mission is to educate the New Ham
 pshire community about Israel and we are using research into ALS and pancr
 eatic cancer to highlight the gifts Israel continues to give to the world.
  One of the smallest and youngest countries on earth\, under constant thre
 at\, and yet Israel continues to make great contributions to mankind. Just
  some of Israel's medical breakthroughs include ReWalk\, BrainGate\, “Se
 eing” with sound”\, CureXCell\, NanoRetina\, OrCam\, Brainstorm\, Pill
 Cam\, and list...
DTSTART;TZID=America/New_York:20190505T120000
DTEND;TZID=America/New_York:20190505T150000
END:VEVENT
END:VCALENDAR
