BEGIN:VCALENDAR
PRODID:-//eluceo/ical//2.0/EN
VERSION:2.0
CALSCALE:GREGORIAN
BEGIN:VEVENT
UID:b8d42b7077119561dda25cc127e8a900
DTSTAMP:20260422T105423Z
SUMMARY:40th Annual Gail Singer Memorial Blood Drive
DESCRIPTION:Jewish Federation of New Hampshire\nCommunity Calendar\nhttps:/
 /jewishnh.org/community-calendar/40th-annual-gail-singer-memorial-blood-dr
 ive\n\nMark your calendar for the 40th Annual Gail Singer Memorial Blood D
 rive!\n\nJoin us this August as we celebrate 40 years of helping save live
 s! It takes all of usâ€”American Red Cross employees\, volunteers and dono
 rsâ€”to deliver lifesaving services to patients in need. Help canâ€™t wait
 \, and we canâ€™t operate without YOU.\n\nWednesday\, Aug. 23 and Thursday
 . Aug. 24\n\n9 a.m. to 6 p.m. \n\nDoubleTree by Hilton Manchester Downtown
  \n700 Elm St.\nManchester\, NH 03101\n\nÂ Â Â Â Schedule NowÂ Â...
DTSTART;TZID=America/New_York:20230824T090000
DTEND;TZID=America/New_York:20230824T180000
END:VEVENT
END:VCALENDAR
