BEGIN:VCALENDAR
PRODID:-//eluceo/ical//2.0/EN
VERSION:2.0
CALSCALE:GREGORIAN
BEGIN:VEVENT
UID:2e6d7a4fadf6066830c2276b6ba7a5c6
DTSTAMP:20260423T141618Z
SUMMARY:5th Annual Bagels and Biscuits 5K Fundraiser
DESCRIPTION:Jewish Federation of New Hampshire\nCommunity Calendar\nhttps:/
 /jewishnh.org/community-calendar/5th-annual-bagels-and-biscuits-5k-fundrai
 ser\n\n5th Annual Bagels and Biscuits 5K Fundraiser\n\n7:30 AM\, Registrat
 ion Opens/Number Pick-up\, 9 AM\, Run/Walk begins\, Derryfield Park\, High
 land Street\, Manchester\n\nTo benefit TAY and the Bedford Animal Rescue L
 eague. All walkers\, runners and leashed dogs welcome! Register by April 1
 3th to receive the early bird discount. Donations of pet food gladly accep
 ted day of race. Participate as an individual or start a team! To sign up 
 please go to our website: www.BagelsandBiscuits5k.com More informa...
DTSTART;TZID=America/New_York:20180415T073000
DTEND;TZID=America/New_York:20180415T103000
END:VEVENT
END:VCALENDAR
