BEGIN:VCALENDAR
PRODID:-//eluceo/ical//2.0/EN
VERSION:2.0
CALSCALE:GREGORIAN
BEGIN:VEVENT
UID:a172678c1f386bc777cff557a185bc72
DTSTAMP:20260423T082639Z
SUMMARY:Six Day War - A Historical Review and Personal Story
DESCRIPTION:Jewish Federation of New Hampshire\nCommunity Calendar\nhttps:/
 /jewishnh.org/community-calendar/6-day-way\n\nJoin the Jewish Federation o
 f New Hampshire as we learn and discuss the historical Six Day War.\n\nN
 etta Asner-Minster\, Shlicha of Maryland will share a historial review and
  JFNH community member Martin Kessel of Bethlehem\, NH will tell his stor
 y and share personal photographs.\n\nPre-regisration is required. Zoom lin
 k will be sent with your registration.
DTSTART;TZID=America/New_York:20200825T190000
DTEND;TZID=America/New_York:20200825T210000
END:VEVENT
END:VCALENDAR
