BEGIN:VCALENDAR
PRODID:-//eluceo/ical//2.0/EN
VERSION:2.0
CALSCALE:GREGORIAN
BEGIN:VEVENT
UID:18c6220249f7c0f950d1c72515ed40e8
DTSTAMP:20260423T054552Z
SUMMARY:NHJFF Showing Babi Yar
DESCRIPTION:Jewish Federation of New Hampshire\nCommunity Calendar\nhttps:/
 /jewishnh.org/community-calendar/NHJFF-Babi-Yar-1546984378\n\nShowing: Bab
 i Yar\n\n3:30 PM\, Red River Theatres\, Concord\, NH\n\nAdmission: FREE\n\
 nAdvanced reservations: Online at www.nhjewishfilmfestival.org\, Online at
  www.brownpapertickets.com/profile/833384\, by phone at 800-838-3006 ext. 
 1 or by phone at 603-627-7679\, Jewish Federation Office\, Mon-Thurs. 8:30
 AM-4:00PM
DTSTART;TZID=America/New_York:20190623T153000
DTEND;TZID=America/New_York:20190623T173000
END:VEVENT
END:VCALENDAR
