BEGIN:VCALENDAR
PRODID:-//eluceo/ical//2.0/EN
VERSION:2.0
CALSCALE:GREGORIAN
BEGIN:VEVENT
UID:dfd0a31d2be9ab98d70515eb7bb6368d
DTSTAMP:20260423T044300Z
SUMMARY:NHJFF Showing Budapest Noir
DESCRIPTION:Jewish Federation of New Hampshire\nCommunity Calendar\nhttps:/
 /jewishnh.org/community-calendar/NHJFF-Budapest-Noir-1546984378\n\nShowing
 : Budapest Noir\n\n1:00 PM\, Red River Theatres\, Concord
DTSTART;TZID=America/New_York:20190414T130000
DTEND;TZID=America/New_York:20190414T143000
END:VEVENT
END:VCALENDAR
