BEGIN:VCALENDAR
PRODID:-//eluceo/ical//2.0/EN
VERSION:2.0
CALSCALE:GREGORIAN
BEGIN:VEVENT
UID:6900acc1d468892ffd2bc47bcff37ef6
DTSTAMP:20260423T062847Z
SUMMARY:NHJFF Showing Full-Court Miracle PJ Our Way Event-FREE!
DESCRIPTION:Jewish Federation of New Hampshire\nCommunity Calendar\nhttps:/
 /jewishnh.org/community-calendar/NHJFF-Full-Court-Miracle-1546984378\n\nSh
 owing: Full-Court Miracle\n\n3:30 PM\, The Hotel Concord\, Concord\n\nPJ O
 UR WAY EVENT-FREE
DTSTART;TZID=America/New_York:20190414T153000
DTEND;TZID=America/New_York:20190414T173000
END:VEVENT
END:VCALENDAR
