BEGIN:VCALENDAR
PRODID:-//eluceo/ical//2.0/EN
VERSION:2.0
CALSCALE:GREGORIAN
BEGIN:VEVENT
UID:76ae1bea2e0a18e9de3ab99f4ca0f883
DTSTAMP:20260422T131108Z
SUMMARY:NHJFF Showing Golda's Balcony\, The Film
DESCRIPTION:Jewish Federation of New Hampshire\nCommunity Calendar\nhttps:/
 /jewishnh.org/community-calendar/NHJFF-Goldas-Balcony-1546984378\n\nShowin
 g: Golda's Balcony\, The Film\n\n7:00 PM\, Mara Auditorium\, Webster Hall\
 , SNHU\, Manchester\n\nPOST FILM DISCUSSION: DAVID FICHELSON\, PRODUCER
DTSTART;TZID=America/New_York:20190409T190000
DTEND;TZID=America/New_York:20190409T220000
END:VEVENT
END:VCALENDAR
