BEGIN:VCALENDAR
PRODID:-//eluceo/ical//2.0/EN
VERSION:2.0
CALSCALE:GREGORIAN
BEGIN:VEVENT
UID:cb54d22ed171fc2b5dbf164f59ba77c1
DTSTAMP:20260424T150032Z
SUMMARY:NHJFF Showing Inside Out PJ LIBRARY EVENT-FREE
DESCRIPTION:Jewish Federation of New Hampshire\nCommunity Calendar\nhttps:/
 /jewishnh.org/community-calendar/NHJFF-Inside-Out-1546984378\n\nShowing: I
 nside Out\n\n1:30 PM\, The Hotel Concord\, Concord\n\nPJ LIBRARY EVENT-FRE
 E
DTSTART;TZID=America/New_York:20190414T133000
DTEND;TZID=America/New_York:20190414T150000
END:VEVENT
END:VCALENDAR
