BEGIN:VCALENDAR
PRODID:-//eluceo/ical//2.0/EN
VERSION:2.0
CALSCALE:GREGORIAN
BEGIN:VEVENT
UID:48b453602ddb28fa4fe28e3e29d755f2
DTSTAMP:20260422T182211Z
SUMMARY:NHJFF Showing Satan and Adam
DESCRIPTION:Jewish Federation of New Hampshire\nCommunity Calendar\nhttps:/
 /jewishnh.org/community-calendar/NHJFF-Satan-Adam-1546984378\n\nShowing: S
 atan and Adam\n\n3:30 PM\, The Music Hall Loft\, Portsmouth\, NH\n\nPOST F
 ILM DISCUSSION: ADAM GUSSOW
DTSTART;TZID=America/New_York:20190407T153000
DTEND;TZID=America/New_York:20190407T173000
END:VEVENT
END:VCALENDAR
