BEGIN:VCALENDAR
PRODID:-//eluceo/ical//2.0/EN
VERSION:2.0
CALSCALE:GREGORIAN
BEGIN:VEVENT
UID:b14e0d9d21152feef27bf7ca891a9e34
DTSTAMP:20260425T200801Z
SUMMARY:NHJFF Showing Shoelaces
DESCRIPTION:Jewish Federation of New Hampshire\nCommunity Calendar\nhttps:/
 /jewishnh.org/community-calendar/NHJFF-Shoelaces-1546984378\n\nShowing\; S
 hoelaces\n\n8:00 PM\, Red River Theatres\, Concord\n\nSOCIABLE SATURDAY NI
 GHT EVENT!
DTSTART;TZID=America/New_York:20190413T200000
DTEND;TZID=America/New_York:20190413T223000
END:VEVENT
END:VCALENDAR
