BEGIN:VCALENDAR
PRODID:-//eluceo/ical//2.0/EN
VERSION:2.0
CALSCALE:GREGORIAN
BEGIN:VEVENT
UID:cf45b8657cf31462480ffdc5180ab2b5
DTSTAMP:20260423T232203Z
SUMMARY:NHJFF Showing The Last Suit
DESCRIPTION:Jewish Federation of New Hampshire\nCommunity Calendar\nhttps:/
 /jewishnh.org/community-calendar/NHJFF-TheLastSuit-1546984378\n\nShowing: 
 The Last Suit\n\n1:00 PM\, The Music Hall Loft\, Portsmouth\, NH
DTSTART;TZID=America/New_York:20190407T130000
DTEND;TZID=America/New_York:20190407T150000
END:VEVENT
END:VCALENDAR
