BEGIN:VCALENDAR
PRODID:-//eluceo/ical//2.0/EN
VERSION:2.0
CALSCALE:GREGORIAN
BEGIN:VEVENT
UID:302e84e19a3c490591eff9fd4338ae89
DTSTAMP:20260422T233438Z
SUMMARY:NHJFF Showing Working Woman
DESCRIPTION:Jewish Federation of New Hampshire\nCommunity Calendar\nhttps:/
 /jewishnh.org/community-calendar/NHJFF-Working-Woman-1546984378\n\nShowing
 : Working Woman\n\n7:00 PM\, Red River Theatres\, Concord
DTSTART;TZID=America/New_York:20190411T190000
DTEND;TZID=America/New_York:20190411T210000
END:VEVENT
END:VCALENDAR
