BEGIN:VCALENDAR
PRODID:-//eluceo/ical//2.0/EN
VERSION:2.0
CALSCALE:GREGORIAN
BEGIN:VEVENT
UID:00c1a50dd0ab7466968a3305807c50ce
DTSTAMP:20260423T013544Z
SUMMARY:Sangria in the Sukkah - Young Mensches
DESCRIPTION:Jewish Federation of New Hampshire\nCommunity Calendar\nhttps:/
 /jewishnh.org/community-calendar/SangriaintheSukkah\n\n**Young Mensches is
  a group for Jewish Young Adults in NH\, 21-35yo**\n\nSangria in the Sukka
 h is a Mexican themed Sukkot party\, which will be hosted by Noam Wolf NH 
 Shlicha\, Ashley Gabrielle and Jewish Federation of New Hampshire!\nwith $
 10 per person\, you can enjoy a variety of Mexican style food\, several ty
 pes of Sangrias\, music\, and great friends!\n \n\n*Please Bring Cash*\n\
 nWe can't wait to see you all!\nThe address will be given with RSVP
DTSTART;TZID=America/New_York:20180923T180000
DTEND;TZID=America/New_York:20180923T230000
END:VEVENT
END:VCALENDAR
