BEGIN:VCALENDAR
PRODID:-//eluceo/ical//2.0/EN
VERSION:2.0
CALSCALE:GREGORIAN
BEGIN:VEVENT
UID:cd074eb3f336a7eac5c852212f76ad63
DTSTAMP:20260424T203451Z
SUMMARY:Shmita with Yedidya
DESCRIPTION:Jewish Federation of New Hampshire\nCommunity Calendar\nhttps:/
 /jewishnh.org/community-calendar/Shmita\n\nJoin us for a free lecture abou
 t "Shmita" - the practice of giving the land a sabbath or rest every seven
  years - with Yedidya Harush\, spokesperson from our sister city Halutza\,
  an agricultural community in Southern Israel.\n\nRegistration required fo
 r Zoom information.
DTSTART;TZID=America/New_York:20220206T120000
DTEND;TZID=America/New_York:20220206T130000
END:VEVENT
END:VCALENDAR
