BEGIN:VCALENDAR
PRODID:-//eluceo/ical//2.0/EN
VERSION:2.0
CALSCALE:GREGORIAN
BEGIN:VEVENT
UID:eb42b5010eecdf043ba18975342db333
DTSTAMP:20260423T053430Z
SUMMARY:Temple Israel Torah Study
DESCRIPTION:Jewish Federation of New Hampshire\nCommunity Calendar\nhttps:/
 /jewishnh.org/community-calendar/TIPtorahstudyrabbimarc\n\nA weekly Torah 
 study at Rabbi Marc Philippe's home (RSVP to rabbi.marc@yahoo.com) or on Z
 OOM at: https://zoom.us/j/96822287178?pwd=UzQwS3VWS3hCVkoyVGZYVDNSaXpIZz09
 .
DTSTART;TZID=America/New_York:20231129T183000
DTEND;TZID=America/New_York:20231129T203000
END:VEVENT
END:VCALENDAR
