BEGIN:VCALENDAR
PRODID:-//eluceo/ical//2.0/EN
VERSION:2.0
CALSCALE:GREGORIAN
BEGIN:VEVENT
UID:110176b3b4fa7b8eff7df837377d8b12
DTSTAMP:20260424T092016Z
SUMMARY:A Bissel Yiddish on September 8\, 11 AM to 1 PM
DESCRIPTION:Jewish Federation of New Hampshire\nCommunity Calendar\nhttps:/
 /jewishnh.org/community-calendar/a-bissel-yiddish-on-september-8-11-am-to-
 1-pm-1564946189\n\nLearn some Yiddish on Sunday\, September 8\, 2019\, 11 
 AM to 1 PM. Our instructors will be native Yiddish speaker Shirley Lelchuk
  (former Yiddish teacher at Temple Beth Abraham - Nashua\, NH) and Dr. Ala
 n Green (Raymond Street Klezmer Band member\, mohel\, and retired OB/GYN).
  Although we'll supply a few things to nosh\, please BYOB ("Bring your own
  Brunch"). [BYOB may be dairy\, vegetarian\, vegan or fish (but no shellfi
 sh)\; no meat (including poultry and pork)]. This is going to be SO MUCH F
 UN! Plea...
DTSTART;TZID=America/New_York:20190908T110000
DTEND;TZID=America/New_York:20190908T130000
END:VEVENT
END:VCALENDAR
