BEGIN:VCALENDAR
PRODID:-//eluceo/ical//2.0/EN
VERSION:2.0
CALSCALE:GREGORIAN
BEGIN:VEVENT
UID:6a0b2006fcb438cbe47edd3d7e446ca8
DTSTAMP:20260423T055510Z
SUMMARY:“A Child’s View of the Holocaust” Dance Performance at Temple
  Beth Abraham
DESCRIPTION:Jewish Federation of New Hampshire\nCommunity Calendar\nhttps:/
 /jewishnh.org/community-calendar/a-childs-view-of-the-holocaust-dance-perf
 ormance-at-temple-beth-abraham-1678983251\n\nA touring group of highly tra
 ined New England Dance Ensemble (NEDE.org) members ranging in age from 6-1
 8 present a 40-minute production of “A Child’s View of the Holocaust
 ” in the Temple Beth Abraham social hall.\n\nA light lunch at noon will 
 precede the performance.\n\nArtistic Director Barbara Mullen choreographed
  the original drama ballet in 1990. The production recognizes the atrociti
 es that occurred towards Jews at the hands of the Nazi party in Germany be
 tween 1939 and 1945.\n\nTh...
DTSTART;TZID=America/New_York:20230416T120000
DTEND;TZID=America/New_York:20230416T140000
END:VEVENT
END:VCALENDAR
