BEGIN:VCALENDAR
PRODID:-//eluceo/ical//2.0/EN
VERSION:2.0
CALSCALE:GREGORIAN
BEGIN:VEVENT
UID:6cfac8c9699306958fae6c70c6bf0267
DTSTAMP:20260423T015255Z
SUMMARY:A Glimpse into Jewish Identity in Israel
DESCRIPTION:Jewish Federation of New Hampshire\nCommunity Calendar\nhttps:/
 /jewishnh.org/community-calendar/a-glimpse-into-jewish-identity-in-israel\
 n\nFor several thousand years\, Jews have had a strong connection to the L
 and of Israel.  During the past one hundred forty years\, Jews whose fami
 lies have lived in Jerusalem for centuries have been joined by Holocaust s
 urvivors from Poland\, refugees from Iraq and Ethiopia\, and professionals
  from Russia and the United States.  Some of these immigrants to Israel h
 ave come for religious reasons.  Others came to escape from discriminatio
 n and even extermination.  Still others came to take part i...
DTSTART;TZID=America/New_York:20210420T190000
DTEND;TZID=America/New_York:20210420T203000
END:VEVENT
END:VCALENDAR
