BEGIN:VCALENDAR
PRODID:-//eluceo/ical//2.0/EN
VERSION:2.0
CALSCALE:GREGORIAN
BEGIN:VEVENT
UID:7caa5ee65ec4f586c8038fc8a8462d99
DTSTAMP:20260423T032158Z
SUMMARY:A Glimpse into Jewish Identity in Israel
DESCRIPTION:Jewish Federation of New Hampshire\nCommunity Calendar\nhttps:/
 /jewishnh.org/community-calendar/a-glimpse-into-jewish-identity-in-israel2
 \n\nFor several thousand years\, Jews have had a strong connection to the 
 Land of Israel.  During the past one hundred forty years\, Jews whose fam
 ilies have lived in Jerusalem for centuries have been joined by Holocaust 
 survivors from Poland\, refugees from Iraq and Ethiopia\, and professional
 s from Russia and the United States.  Some of these immigrants to Israel 
 have come for religious reasons.  Others came to escape from discriminati
 on and even extermination.  Still others came to take part i...
DTSTART;TZID=America/New_York:20210511T190000
DTEND;TZID=America/New_York:20210511T203000
END:VEVENT
END:VCALENDAR
