BEGIN:VCALENDAR
PRODID:-//eluceo/ical//2.0/EN
VERSION:2.0
CALSCALE:GREGORIAN
BEGIN:VEVENT
UID:8420a5c0622042b51c200d2ea675eedf
DTSTAMP:20260422T223730Z
SUMMARY:A New Hampshire Gathering in Solidarity with Israel
DESCRIPTION:Jewish Federation of New Hampshire\nCommunity Calendar\nhttps:/
 /jewishnh.org/community-calendar/a-new-hampshire-gathering-in-solidarity-w
 ith-israel\n\nJoin the Jewish Federation of New Hampshire and synagogues f
 rom around the state in standing together while our hearts break for the f
 allen and their families. Bring your families and Israeli flags as we gath
 er together to show our support in the face of this violent attack. Securi
 ty will be present.\n\nWednesday\, October 11th | 6pm New Hampshire State 
 House\, Concord
DTSTART;TZID=America/New_York:20231011T180000
DTEND;TZID=America/New_York:20231011T193000
END:VEVENT
END:VCALENDAR
