BEGIN:VCALENDAR
PRODID:-//eluceo/ical//2.0/EN
VERSION:2.0
CALSCALE:GREGORIAN
BEGIN:VEVENT
UID:ed32ce27adb1ad6e603f1b6986a6970d
DTSTAMP:20260422T154737Z
SUMMARY:A priest and a rabbi zoomed into a bar
DESCRIPTION:Jewish Federation of New Hampshire\nCommunity Calendar\nhttps:/
 /jewishnh.org/community-calendar/a-priest-and-a-rabbi-zoomed-into-a-bar-16
 07273575\n\nThis program is part Etz Hayim Synagogue&rsquo\;s  Adult Conti
 nuing Education Program\, Hot Topics and Cool Contemporary Stuff. To get t
 he zoom link for this talk\, please email office@etzhayim.org.   More info
 rmation\, please contact: Stephen Soreff\, MD\, at soreffs15@aol.com or 60
 3-895-6120   
DTSTART;TZID=America/New_York:20201210T190000
DTEND;TZID=America/New_York:20201210T210000
END:VEVENT
END:VCALENDAR
