BEGIN:VCALENDAR
PRODID:-//eluceo/ical//2.0/EN
VERSION:2.0
CALSCALE:GREGORIAN
BEGIN:VEVENT
UID:5f5b34790960989cfc40ae960b35a25e
DTSTAMP:20260423T172432Z
SUMMARY:A Priest and Rabbi Walk into Yet Another Bar
DESCRIPTION:Jewish Federation of New Hampshire\nCommunity Calendar\nhttps:/
 /jewishnh.org/community-calendar/a-priest-and-rabbi-walk-into-yet-another-
 bar-1671148273\n\nThe talk is in person with masks optional and via Zoom w
 ith a link provided by the Etz Hayim office office@etzhayim.org. It is fre
 e and open to the public. \nThis is part of Etz Hayim Synagogue’s Adult 
 Continuing Education Program  Hot Topics and Cool Contemporary Stuff.  For
  more information\, please contact: Stephen Soreff\, MD\, at soreffs15@aol
 .com or 603-895-6120
DTSTART;TZID=America/New_York:20230112T190000
DTEND;TZID=America/New_York:20230112T210000
END:VEVENT
END:VCALENDAR
