BEGIN:VCALENDAR
PRODID:-//eluceo/ical//2.0/EN
VERSION:2.0
CALSCALE:GREGORIAN
BEGIN:VEVENT
UID:4f4b2bafccfeddeb603cb33c8bd2393f
DTSTAMP:20260423T023210Z
SUMMARY:ADL presents The Good Fight
DESCRIPTION:Jewish Federation of New Hampshire\nCommunity Calendar\nhttps:/
 /jewishnh.org/community-calendar/adl-presents-the-good-fight\n\nThe Good F
 ight Forum on Confronting Antisemitism Today and Tomorrow\n10/30\, 9:00 am
  - 1:00 pm\nRenaissance Boston Waterfront Hotel\n\nJoin the ADL New Englan
 d community for an informative and hands-on day dedicated to combatting an
 tisemitism. This one-day forum will include presentations by leading exper
 ts on antisemitism\, and skill-building workshops for adults\, students\, 
 and families. Participants will leave with an actionable toolkit for confr
 onting antisemitism. Email goodfightNE@adl.org...
DTSTART;TZID=America/New_York:20221030T090000
DTEND;TZID=America/New_York:20221030T130000
END:VEVENT
END:VCALENDAR
