BEGIN:VCALENDAR
PRODID:-//eluceo/ical//2.0/EN
VERSION:2.0
CALSCALE:GREGORIAN
BEGIN:VEVENT
UID:67fbc5d0faaeba4e2518945bd226c9d8
DTSTAMP:20260423T122447Z
SUMMARY:ADL Presents Words to Action Grades 9-12
DESCRIPTION:Jewish Federation of New Hampshire\nCommunity Calendar\nhttps:/
 /jewishnh.org/community-calendar/adl-presents-words-to-action-hs\n\nThe Je
 wish Federation of New Hampshire is excited to welcome the ADL back for Wo
 rds to Action.This program is approximately 1 1/2 hours and is for studen
 ts in High School (Grades 9-12).  The program is designed to help studen
 ts increase their understanding of anti-Semitism and the way it manifests 
 itself\, including anti-Semitism that is fueled by anti-Israel sentiment\;
  increase their awareness of incidents of anti-Semitism in their environme
 nt\; improve their ability to address specific inc...
DTSTART;TZID=America/New_York:20201025T140000
DTEND;TZID=America/New_York:20201025T160000
END:VEVENT
END:VCALENDAR
