BEGIN:VCALENDAR
PRODID:-//eluceo/ical//2.0/EN
VERSION:2.0
CALSCALE:GREGORIAN
BEGIN:VEVENT
UID:d0b3c620d3ff062a1b6292f7f6f77689
DTSTAMP:20260424T200404Z
SUMMARY:Betenu Adult Education
DESCRIPTION:Jewish Federation of New Hampshire\nCommunity Calendar\nhttps:/
 /jewishnh.org/community-calendar/adult-aducation-1636208710\n\nThis is a v
 irtual event.  Please contact the Betenu office for the link.
DTSTART;TZID=America/New_York:20211205T130000
DTEND;TZID=America/New_York:20211205T140000
END:VEVENT
END:VCALENDAR
