BEGIN:VCALENDAR
PRODID:-//eluceo/ical//2.0/EN
VERSION:2.0
CALSCALE:GREGORIAN
BEGIN:VEVENT
UID:b92e17b22994aec8a8086e403ebb41af
DTSTAMP:20260421T225006Z
SUMMARY:Adult Education
DESCRIPTION:Jewish Federation of New Hampshire\nCommunity Calendar\nhttps:/
 /jewishnh.org/community-calendar/adult-education-1556716062\n\n1:00 PM: Ad
 ult Education led by Rav Sam Blumberg. The topic will be "The Book of Ruth
 ."
DTSTART;TZID=America/New_York:20190519T010000
DTEND;TZID=America/New_York:20190519T030000
END:VEVENT
END:VCALENDAR
