BEGIN:VCALENDAR
PRODID:-//eluceo/ical//2.0/EN
VERSION:2.0
CALSCALE:GREGORIAN
BEGIN:VEVENT
UID:c0c6aa7d40d2679c282fef86f2bee073
DTSTAMP:20260422T162103Z
SUMMARY:Adult Education at Betenu
DESCRIPTION:Jewish Federation of New Hampshire\nCommunity Calendar\nhttps:/
 /jewishnh.org/community-calendar/adult-education-1574623284\n\nAdult Educa
 tion
DTSTART;TZID=America/New_York:20191215T130000
DTEND;TZID=America/New_York:20191215T150000
END:VEVENT
END:VCALENDAR
