BEGIN:VCALENDAR
PRODID:-//eluceo/ical//2.0/EN
VERSION:2.0
CALSCALE:GREGORIAN
BEGIN:VEVENT
UID:f43da30c70f3d040fb3b8090864cc1cb
DTSTAMP:20260423T044210Z
SUMMARY:Betenu Adult Education
DESCRIPTION:Jewish Federation of New Hampshire\nCommunity Calendar\nhttps:/
 /jewishnh.org/community-calendar/adult-education-1660072289\n\nAdult Educa
 tion session led by Naomi Gurt Lind.
DTSTART;TZID=America/New_York:20220918T133000
DTEND;TZID=America/New_York:20220918T150000
END:VEVENT
END:VCALENDAR
