BEGIN:VCALENDAR
PRODID:-//eluceo/ical//2.0/EN
VERSION:2.0
CALSCALE:GREGORIAN
BEGIN:VEVENT
UID:7942880f97a0712bfc2a6f2c2c47f724
DTSTAMP:20260423T084351Z
SUMMARY:Betenu Adult Education
DESCRIPTION:Jewish Federation of New Hampshire\nCommunity Calendar\nhttps:/
 /jewishnh.org/community-calendar/adult-education-1665584217\n\nIn tune wit
 h this season of gratitude\, we will look at some traditional Jewish sourc
 es that deal with gratitude and thankfulness.  What kinds of things do we 
 express gratitude for?  How do we express it?  What might be the consequen
 ces  of not showing appropriate gratitude?
DTSTART;TZID=America/New_York:20221120T133000
DTEND;TZID=America/New_York:20221120T150000
END:VEVENT
END:VCALENDAR
