BEGIN:VCALENDAR
PRODID:-//eluceo/ical//2.0/EN
VERSION:2.0
CALSCALE:GREGORIAN
BEGIN:VEVENT
UID:c3447e13ced41f832ab37aa57895bb56
DTSTAMP:20260422T234229Z
SUMMARY:Betenu Adult Education
DESCRIPTION:Jewish Federation of New Hampshire\nCommunity Calendar\nhttps:/
 /jewishnh.org/community-calendar/adult-education-1673450499\n\nWhat are we
  Saying when we are Praying:  Our liturgical tradition is rich and varied 
 with thousands of words devoted to praising\, asking\, thanking and more. 
  In this session\, we look at some of the whys and hows of Jewish prayer\,
  with examples from various prayer books (including but not limited to tho
 se from the Reform tradition) as well as Rabbinic literature dealing with 
 prayer as a practice.  First of a series.
DTSTART;TZID=America/New_York:20230212T133000
DTEND;TZID=America/New_York:20230212T150000
END:VEVENT
END:VCALENDAR
