BEGIN:VCALENDAR
PRODID:-//eluceo/ical//2.0/EN
VERSION:2.0
CALSCALE:GREGORIAN
BEGIN:VEVENT
UID:91fa9833a2ac7edd74270893884f6a58
DTSTAMP:20260424T075437Z
SUMMARY:Betenu Adult Education
DESCRIPTION:Jewish Federation of New Hampshire\nCommunity Calendar\nhttps:/
 /jewishnh.org/community-calendar/adult-education-1679000804\n\nAdult educa
 tion with Rabbinical Intern Naomi Gurt Lind
DTSTART;TZID=America/New_York:20230402T133000
DTEND;TZID=America/New_York:20230402T150000
END:VEVENT
END:VCALENDAR
