BEGIN:VCALENDAR
PRODID:-//eluceo/ical//2.0/EN
VERSION:2.0
CALSCALE:GREGORIAN
BEGIN:VEVENT
UID:428a27427032ee7101ae5057b39cba28
DTSTAMP:20260423T044853Z
SUMMARY:Betenu Adult Education
DESCRIPTION:Jewish Federation of New Hampshire\nCommunity Calendar\nhttps:/
 /jewishnh.org/community-calendar/adult-education-1700519732\n\nThis is a h
 ybrid event.  Please email Betenu for the Zoom link or to request in perso
 n participation.
DTSTART;TZID=America/New_York:20231217T160000
DTEND;TZID=America/New_York:20231217T180000
END:VEVENT
END:VCALENDAR
