BEGIN:VCALENDAR
PRODID:-//eluceo/ical//2.0/EN
VERSION:2.0
CALSCALE:GREGORIAN
BEGIN:VEVENT
UID:314bd32425746f9bff85f3faf5198f33
DTSTAMP:20260423T073103Z
SUMMARY:Betenu Adult Education led by Rav Naomi Gurt Lind
DESCRIPTION:Jewish Federation of New Hampshire\nCommunity Calendar\nhttps:/
 /jewishnh.org/community-calendar/adult-education-led-by-rav-naomi-gurt-lin
 d-1676301494\n\nWhat are we saying when we are praying? Our liturgical tra
 dition is rich and varied with thousands of words devoted to praising\, as
 king\, thanking \, and more. In this session\, we will look at some of the
  whys and hows of Jewish prayer\, with examples from various prayer books 
 (including but not limited to those from the Reform tradition) as well as 
 Rabbinic literature dealing with prayer as a practice. This session is the
  continuation of a series but you do not have to have have attended last m
 ...
DTSTART;TZID=America/New_York:20230312T133000
DTEND;TZID=America/New_York:20230312T150000
END:VEVENT
END:VCALENDAR
