BEGIN:VCALENDAR
PRODID:-//eluceo/ical//2.0/EN
VERSION:2.0
CALSCALE:GREGORIAN
BEGIN:VEVENT
UID:0c41c748645c58ae7ffbf7ec1fc37c3c
DTSTAMP:20260424T115150Z
SUMMARY:Adult Education program
DESCRIPTION:Jewish Federation of New Hampshire\nCommunity Calendar\nhttps:/
 /jewishnh.org/community-calendar/adult-education-program-1584386909\n\nTop
 ic:  Starting Difficult Conversations Around Death and Dying.  Participant
 s will play a game called "Hello: the Conversation Game about Living and D
 ying and what matters most.
DTSTART;TZID=America/New_York:20200419T130000
DTEND;TZID=America/New_York:20200419T143000
END:VEVENT
END:VCALENDAR
