BEGIN:VCALENDAR
PRODID:-//eluceo/ical//2.0/EN
VERSION:2.0
CALSCALE:GREGORIAN
BEGIN:VEVENT
UID:75f9a60a6a28d6fd7a4e1e73a1332802
DTSTAMP:20260422T014253Z
SUMMARY:Adult Education program
DESCRIPTION:Jewish Federation of New Hampshire\nCommunity Calendar\nhttps:/
 /jewishnh.org/community-calendar/adult-education-program-1609272639\n\nIn 
 the Bible\, the institution of Shabbat comes out of direct experience. In 
 the wilderness\, the double portion of manna rains down from the skies on 
 the sixth day so that the Israelites will have no need to depart from thei
 r home in search of food on Shabbat. Shabbat thus becomes a day of rootedn
 ess\, of staying put\, of setting aside [separating] from certain weekday 
 behaviors. But how are we to understand what that means? In this session\,
  we will look at the diversity of ways to experience...
DTSTART;TZID=America/New_York:20210110T130000
DTEND;TZID=America/New_York:20210110T140000
END:VEVENT
END:VCALENDAR
