BEGIN:VCALENDAR
PRODID:-//eluceo/ical//2.0/EN
VERSION:2.0
CALSCALE:GREGORIAN
BEGIN:VEVENT
UID:438abd0d58d63f8b45b418aeaae8dea4
DTSTAMP:20260422T010258Z
SUMMARY:Betenu Adult Education Program
DESCRIPTION:Jewish Federation of New Hampshire\nCommunity Calendar\nhttps:/
 /jewishnh.org/community-calendar/adult-education-program-1700517182\n\nThi
 s on going group will continue to study Psalms focusing on Psalm 137.  You
  do not have to have been at prior sessions to attend.
DTSTART;TZID=America/New_York:20231119T160000
DTEND;TZID=America/New_York:20231119T173000
END:VEVENT
END:VCALENDAR
